BEGIN:VCALENDAR
VERSION:2.0
PRODID:-//Newick Parish Council - ECPv6.15.18//NONSGML v1.0//EN
CALSCALE:GREGORIAN
METHOD:PUBLISH
X-ORIGINAL-URL:https://newickparishcouncil.gov.uk
X-WR-CALDESC:Events for Newick Parish Council
REFRESH-INTERVAL;VALUE=DURATION:PT1H
X-Robots-Tag:noindex
X-PUBLISHED-TTL:PT1H
BEGIN:VTIMEZONE
TZID:Europe/London
BEGIN:DAYLIGHT
TZOFFSETFROM:+0000
TZOFFSETTO:+0100
TZNAME:BST
DTSTART:20250330T010000
END:DAYLIGHT
BEGIN:STANDARD
TZOFFSETFROM:+0100
TZOFFSETTO:+0000
TZNAME:GMT
DTSTART:20251026T010000
END:STANDARD
BEGIN:DAYLIGHT
TZOFFSETFROM:+0000
TZOFFSETTO:+0100
TZNAME:BST
DTSTART:20260329T010000
END:DAYLIGHT
BEGIN:STANDARD
TZOFFSETFROM:+0100
TZOFFSETTO:+0000
TZNAME:GMT
DTSTART:20261025T010000
END:STANDARD
BEGIN:DAYLIGHT
TZOFFSETFROM:+0000
TZOFFSETTO:+0100
TZNAME:BST
DTSTART:20270328T010000
END:DAYLIGHT
BEGIN:STANDARD
TZOFFSETFROM:+0100
TZOFFSETTO:+0000
TZNAME:GMT
DTSTART:20271031T010000
END:STANDARD
END:VTIMEZONE
BEGIN:VEVENT
DTSTART;TZID=Europe/London:20260413T190000
DTEND;TZID=Europe/London:20260413T190000
DTSTAMP:20260421T003739
CREATED:20250513T132003Z
LAST-MODIFIED:20260331T072357Z
UID:8855-1776106800-1776106800@newickparishcouncil.gov.uk
SUMMARY:Parish Council Meeting
DESCRIPTION:This meeting will be held at the Community Centre\, The Green\, Newick. Members of the public are welcome to attend. Please see the agenda (when available) for more details.
URL:https://newickparishcouncil.gov.uk/event/parish-council-meeting-25
LOCATION:Community Centre\, Community Centre
CATEGORIES:Parish Council Meetings
END:VEVENT
BEGIN:VEVENT
DTSTART;TZID=Europe/London:20260511T190000
DTEND;TZID=Europe/London:20260511T190000
DTSTAMP:20260421T003739
CREATED:20250513T132043Z
LAST-MODIFIED:20250610T120905Z
UID:8858-1778526000-1778526000@newickparishcouncil.gov.uk
SUMMARY:Annual Meeting of the Parish Council
DESCRIPTION:This meeting will be held at the Community Centre\, The Green\, Newick. Members of the public are welcome to attend. Please see the agenda (when available) for more details.
URL:https://newickparishcouncil.gov.uk/event/annual-meeting-of-the-parish-council-2
LOCATION:Community Centre\, Community Centre
CATEGORIES:Parish Council Meetings
END:VEVENT
END:VCALENDAR